BEGIN:VCALENDAR
VERSION:2.0
PRODID:-//Brisbane Stoics - ECPv6.15.20//NONSGML v1.0//EN
CALSCALE:GREGORIAN
METHOD:PUBLISH
X-WR-CALNAME:Brisbane Stoics
X-ORIGINAL-URL:https://brisbanestoics.com
X-WR-CALDESC:Events for Brisbane Stoics
REFRESH-INTERVAL;VALUE=DURATION:PT1H
X-Robots-Tag:noindex
X-PUBLISHED-TTL:PT1H
BEGIN:VTIMEZONE
TZID:Australia/Brisbane
BEGIN:STANDARD
TZOFFSETFROM:+1000
TZOFFSETTO:+1000
TZNAME:AEST
DTSTART:20240101T000000
END:STANDARD
END:VTIMEZONE
BEGIN:VEVENT
DTSTART;TZID=Australia/Brisbane:20260219T183000
DTEND;TZID=Australia/Brisbane:20260219T193000
DTSTAMP:20260423T170700
CREATED:20251121T093110Z
LAST-MODIFIED:20251121T093156Z
UID:494-1771525800-1771529400@brisbanestoics.com
SUMMARY:Southern Star Stoics February 2026 Meetup
DESCRIPTION:Inviting everyone interested in Stoicism – particularly in the Australian/New Zealand timezones! Inspired by Modern Stoicism’s Conversations series\, we discuss ancient Stoic texts\, modern interpretations\, and how we can use Stoicism to help us live better. \nYou will need to register through luma to receive the link – https://luma.com/oi62ggd0?fbclid=IwY2xjawONDSFleHRuA2FlbQIxMQBzcnRjBmFwcF9pZBAyMjIwMzkxNzg4MjAwODkyAAEehDqdk6vpL6I5WqdGte5mSB1Wtqr__6cZGrhrNUzBeJUmepHI2vUsoJsP3zs_aem_0NFn_kK5y9WM2To2UgAcGg
URL:https://brisbanestoics.com/event/southern-star-stoics-february-2026-meetup/
LOCATION:Zoom
CATEGORIES:Southern Star Stoics
END:VEVENT
BEGIN:VEVENT
DTSTART;TZID=Australia/Brisbane:20250220T180000
DTEND;TZID=Australia/Brisbane:20250220T193000
DTSTAMP:20260423T170700
CREATED:20250125T052543Z
LAST-MODIFIED:20250210T012342Z
UID:413-1740074400-1740079800@brisbanestoics.com
SUMMARY:Southern Star Stoics February 2025 Meetup
DESCRIPTION:Southern Star Stoics February 2025 Meetup \nBrigid Delaney Author of “Reasons Not to Worry – How to be Stoic in Chaotic Times” has agreed to speak at our February session.  Please click RSVP for the Zoom link. \nThis event requires an RSVP to receive the link
URL:https://brisbanestoics.com/event/southern-star-stoics-february-2025-meetup/
LOCATION:Zoom
CATEGORIES:Southern Star Stoics
END:VEVENT
END:VCALENDAR