BEGIN:VCALENDAR
VERSION:2.0
PRODID:-//Brisbane Stoics - ECPv6.15.20//NONSGML v1.0//EN
CALSCALE:GREGORIAN
METHOD:PUBLISH
X-WR-CALNAME:Brisbane Stoics
X-ORIGINAL-URL:https://brisbanestoics.com
X-WR-CALDESC:Events for Brisbane Stoics
REFRESH-INTERVAL;VALUE=DURATION:PT1H
X-Robots-Tag:noindex
X-PUBLISHED-TTL:PT1H
BEGIN:VTIMEZONE
TZID:Australia/Brisbane
BEGIN:STANDARD
TZOFFSETFROM:+1000
TZOFFSETTO:+1000
TZNAME:AEST
DTSTART:20240101T000000
END:STANDARD
END:VTIMEZONE
BEGIN:VEVENT
DTSTART;TZID=Australia/Brisbane:20251214T090000
DTEND;TZID=Australia/Brisbane:20251214T110000
DTSTAMP:20260424T011817
CREATED:20251117T003455Z
LAST-MODIFIED:20251117T003455Z
UID:492-1765702800-1765710000@brisbanestoics.com
SUMMARY:Brisbane Stoics December 2025 Meetup: Christmas Meetup and Celebration
DESCRIPTION:Join us for our festive Christmas meetup to celebrate the year and connect with fellow members!\n\nThis month we’re taking a break from our usual presentation format to reflect on the past year together. We invite you to bring a brief reflection on a lesson you’ve learned or a theme that’s been on your mind this year. Sharing is completely optional\, but we’d love to hear your thoughts if you feel comfortable.\n\nWhat to bring:– A reflection or theme from the year (optional to share)– Food to share (if possible)– Your own plate\, cup\, and chair\n\nLocation: We’ll meet in the park outside the library. If weather doesn’t cooperate\, we’ll move into the library meeting room.\nWe look forward to celebrating the festive season with you
URL:https://brisbanestoics.com/event/brisbane-stoics-december-2025-meetup-christmas-meetup-and-celebration/
LOCATION:New Farm Library\, 135 Sydney Street\, New Farm\, Queensland\, 4005\, Australia
CATEGORIES:Brisbane Stoics
END:VEVENT
BEGIN:VEVENT
DTSTART;TZID=Australia/Brisbane:20251109T090000
DTEND;TZID=Australia/Brisbane:20251109T110000
DTSTAMP:20260424T011817
CREATED:20251025T001608Z
LAST-MODIFIED:20251025T001608Z
UID:488-1762678800-1762686000@brisbanestoics.com
SUMMARY:Brisbane Stoics November 2025 Meetup: Philosophy as a Way of Life
DESCRIPTION:Hi everyone\, \nThis month\, we will be looking at philosophy as a way of life. After our insightful meeting last month on Marcus Aurelius and his legacy\, we now turn to how we can put this philosophy into practice and apply it as a way of life. \nWe’ll explore some theory and discuss how to apply these principles to our own lives. \nPlease bring some of your favourite short readings or maxims\, along with general ideas\, to share. \nThe November 2025 meeting is Sunday 9th\, 9:00 am to 11:00 am at the New Farm Library meeting room. Afterwards we continue the conversation over coffee at a nearby cafe. \nLooking forward to seeing you there
URL:https://brisbanestoics.com/event/brisbane-stoics-november-2025-meetup-philosophy-as-a-way-of-life/
LOCATION:New Farm Library\, 135 Sydney Street\, New Farm\, Queensland\, 4005\, Australia
CATEGORIES:Brisbane Stoics
END:VEVENT
BEGIN:VEVENT
DTSTART;TZID=Australia/Brisbane:20251012T090000
DTEND;TZID=Australia/Brisbane:20251012T110000
DTSTAMP:20260424T011817
CREATED:20250920T082018Z
LAST-MODIFIED:20250920T083456Z
UID:484-1760259600-1760266800@brisbanestoics.com
SUMMARY:Brisbane Stoics October 2025 Meetup: Marcus Aurelius and his Legacy
DESCRIPTION:Hi everyone\, \nOur October 2025 meeting is Sunday 12th\, 9:00 am to 11:00 am at the New Farm Library meeting room. Afterwards we continue the conversation over coffee at a nearby cafe. \nOur discussion this month will be on the theme of virtue and power. \nThis month\, special guest Judith Stove will be presenting on Marcus Aurelius and his legacy. \nJudith Stove is a former teacher of Classics and herself an aspiring Stoic. She is co-organizer of Stoicon-X events in Australia\, and the author of the book Marcus Aurelius and his Legacy: Seeking Rome’s Kingdom of Gold. \nLooking forward to seeing you there.
URL:https://brisbanestoics.com/event/brisbane-stoics-october-2025-meetup-marcus-aurelius-and-his-legacy/
LOCATION:New Farm Library\, 135 Sydney Street\, New Farm\, Queensland\, 4005\, Australia
CATEGORIES:Brisbane Stoics
END:VEVENT
BEGIN:VEVENT
DTSTART;TZID=Australia/Brisbane:20250914T090000
DTEND;TZID=Australia/Brisbane:20250914T110000
DTSTAMP:20260424T011817
CREATED:20250816T011530Z
LAST-MODIFIED:20250823T010300Z
UID:481-1757840400-1757847600@brisbanestoics.com
SUMMARY:Brisbane Stoics September 2025 Meetup: On Virtue and Power
DESCRIPTION:Hi everyone\,\n\nOur September 2025 meeting is Sunday 14th\, 9:00 am to 11:00 am at the New Farm Library meeting room. Afterwards we continue the conversation over coffee at a nearby cafe.\n\nOur discussion this month will be on the theme of virtue and power.\n\nBring along any of your favourite readings or your own ideas for discussion.\n\nLooking forward to seeing you there
URL:https://brisbanestoics.com/event/brisbane-stoics-september-2025-meetup-on-virtue-and-power/
LOCATION:New Farm Library\, 135 Sydney Street\, New Farm\, Queensland\, 4005\, Australia
CATEGORIES:Brisbane Stoics
END:VEVENT
BEGIN:VEVENT
DTSTART;TZID=Australia/Brisbane:20250810T090000
DTEND;TZID=Australia/Brisbane:20250810T110000
DTSTAMP:20260424T011817
CREATED:20250723T235317Z
LAST-MODIFIED:20250723T235317Z
UID:479-1754816400-1754823600@brisbanestoics.com
SUMMARY:Brisbane Stoics August 2025 Meetup: On Leisure and Work
DESCRIPTION:Hi everyone\,\n\nOur August 2025 meeting is Sunday 10th\, 9:00 am to 11:00 am at the New Farm Library meeting room. Afterwards we continue the conversation over coffee at a nearby cafe.\n\nOur discussion this month will be on the theme of leisure and work.\n\nBring along any of your favourite readings or your own ideas for discussion.\n\nLooking forward to seeing you there
URL:https://brisbanestoics.com/event/brisbane-stoics-august-2025-meetup-on-leisure-and-work/
LOCATION:New Farm Library\, 135 Sydney Street\, New Farm\, Queensland\, 4005\, Australia
CATEGORIES:Brisbane Stoics
END:VEVENT
BEGIN:VEVENT
DTSTART;TZID=Australia/Brisbane:20250713T090000
DTEND;TZID=Australia/Brisbane:20250713T110000
DTSTAMP:20260424T011817
CREATED:20250627T234010Z
LAST-MODIFIED:20250627T234304Z
UID:466-1752397200-1752404400@brisbanestoics.com
SUMMARY:Brisbane Stoics July 2025 Meetup: On Death
DESCRIPTION:Our June 2025 meeting is Sunday 8th\, 9:00 am to 11:00 am at the New Farm Library meeting room. Afterwards we continue the conversation over coffee at a nearby cafe.\n\nOur discussion this month will be on the theme of death.\n\nBring along any of your favourite readings or your own ideas for discussion.\n\nLooking forward to seeing you there\n\n\nWe also have a Facebook Group which you can join
URL:https://brisbanestoics.com/event/brisbane-stoics-july-2025-meetup-on-death/
LOCATION:New Farm Library\, 135 Sydney Street\, New Farm\, Queensland\, 4005\, Australia
CATEGORIES:Brisbane Stoics
END:VEVENT
BEGIN:VEVENT
DTSTART;TZID=Australia/Brisbane:20250608T090000
DTEND;TZID=Australia/Brisbane:20250608T110000
DTSTAMP:20260424T011817
CREATED:20250527T040744Z
LAST-MODIFIED:20250527T040744Z
UID:457-1749373200-1749380400@brisbanestoics.com
SUMMARY:Brisbane Stoics June 2025 Meetup: On Community
DESCRIPTION:Hi everyone\,\n\nOur June 2025 meeting is Sunday 8th\, 9:00 am to 11:00 am at the New Farm Library meeting room. Afterwards we continue the conversation over coffee at a nearby cafe.\n\nOur discussion this month will be on the theme of community.\n\nBring along any of your favourite readings or your own ideas for discussion.\n\nLooking forward to seeing you there
URL:https://brisbanestoics.com/event/brisbane-stoics-june-2025-meetup-on-community/
LOCATION:New Farm Library\, 135 Sydney Street\, New Farm\, Queensland\, 4005\, Australia
CATEGORIES:Brisbane Stoics
END:VEVENT
BEGIN:VEVENT
DTSTART;TZID=Australia/Brisbane:20250511T090000
DTEND;TZID=Australia/Brisbane:20250511T110000
DTSTAMP:20260424T011817
CREATED:20250501T220708Z
LAST-MODIFIED:20250501T220708Z
UID:455-1746954000-1746961200@brisbanestoics.com
SUMMARY:Brisbane Stoics May 2025 Meetup: Philosophy and Techne
DESCRIPTION:Hi everyone\, \n\nThe topic will be ‘Philosophy and Techne’.\nAt the meeting we will discuss some ‘Techne’ and ‘spiritual exercises’\, such as the the ‘view from above’\, ‘Prosoche’ and the ‘Praemeditatio Malorum’.\n\n\nRegarding ‘Techne’ here is a brief explanation –\n\n\n\nFrom a Stoic perspective\, techne and philosophical teaching serve different functions\, though both involve disciplined learning:\n\n\n\n1. Techne (Art or Craft):\nDefinition: Techne refers to a craft\, skill\, or practical art—something with clear methods\, procedures\, and results (e.g.\, shipbuilding\, medicine\, rhetoric).\n\n\nFocus: It aims at external success—producing or achieving something tangible or functional.\n\n\nStandards: It can be mastered with training and yields predictable outcomes when applied correctly.\n\n\n\n2. Philosophical Teaching (Philosophia):\nDefinition: Philosophy\, for the Stoics\, is the art of living—a pursuit of wisdom and virtue through reason and self-discipline.\n\n\nFocus: It aims at internal transformation\, aligning one’s judgments\, desires\, and actions with nature and reason.\n\n\nStandards: Unlike techne\, philosophy cannot guarantee virtue or wisdom merely through instruction—it requires deep moral commitment and continuous self-practice.\n\n\nEpictetus often emphasized that philosophy is not just learning arguments but learning how to live—and that even someone trained in many technai might still be foolish or morally weak.\n\n\nLooking forward to a great discussion and seeing you there!\n\nWe meet in the meeting room opposite New Farm Library from 9:00 am to 11:00 am.\n\nAfterwards\, we head to the local cafe to continue the conversation over coffee and lunch.
URL:https://brisbanestoics.com/event/brisbane-stoics-may-2025-meetup-philosophy-and-techne/
LOCATION:New Farm Library\, 135 Sydney Street\, New Farm\, Queensland\, 4005\, Australia
CATEGORIES:Brisbane Stoics
END:VEVENT
BEGIN:VEVENT
DTSTART;TZID=Australia/Brisbane:20250413T090000
DTEND;TZID=Australia/Brisbane:20250413T110000
DTSTAMP:20260424T011817
CREATED:20250313T230049Z
LAST-MODIFIED:20250313T230049Z
UID:451-1744534800-1744542000@brisbanestoics.com
SUMMARY:Brisbane Stoics April 2025 Meetup: Gender\, Power\, and Responsibility
DESCRIPTION:Hi everyone\,\n\nJoin us this April as we explore the dynamics of gender\, power\, and responsibility—a topic suggested by our community during February’s meetup.\n\nLooking forward to a great discussion and seeing you there!\n\nWe meet in the meeting room opposite New Farm Library from 9:00 am to 11:00 am.\n\nAfterwards\, we head to the local cafe to continue the conversation over coffee and lunch.
URL:https://brisbanestoics.com/event/brisbane-stoics-april-2025-meetup-gender-power-and-responsibility/
LOCATION:New Farm Library\, 135 Sydney Street\, New Farm\, Queensland\, 4005\, Australia
CATEGORIES:Brisbane Stoics
END:VEVENT
BEGIN:VEVENT
DTSTART;TZID=Australia/Brisbane:20250309T090000
DTEND;TZID=Australia/Brisbane:20250309T110000
DTSTAMP:20260424T011817
CREATED:20250110T202359Z
LAST-MODIFIED:20250305T051458Z
UID:400-1741510800-1741518000@brisbanestoics.com
SUMMARY:Cancelled: Brisbane Stoics March 2025 Meetup: Gender\, Power\, and Responsibility
DESCRIPTION:***This event has been cancelled due to the upcoming weather event. Stay safe everyone*** \n  \nHi everyone\, \nJoin us this March as we explore the dynamics of gender\, power\, and responsibility—a topic suggested by our community during February’s meetup. \nLooking forward to a great discussion and seeing you there! \nWe meet in the meeting room opposite New Farm Library from 9:00 am to 11:00 am. Afterwards\, we head to the local cafe to continue the conversation over coffee and lunch. \nThere is an event on in the morning so the Story Bridge is closed.
URL:https://brisbanestoics.com/event/brisbane-stoics-march-2025-meetup/
LOCATION:New Farm Library\, 135 Sydney Street\, New Farm\, Queensland\, 4005\, Australia
CATEGORIES:Brisbane Stoics
END:VEVENT
BEGIN:VEVENT
DTSTART;TZID=Australia/Brisbane:20250209T090000
DTEND;TZID=Australia/Brisbane:20250209T110000
DTSTAMP:20260424T011817
CREATED:20250110T202319Z
LAST-MODIFIED:20250131T015312Z
UID:397-1739091600-1739098800@brisbanestoics.com
SUMMARY:Brisbane Stoics February 2025 Meetup
DESCRIPTION:Hi everyone\, \nThis meetup we’ll share more about our website and our plan for the coming months. \nOur discussion this month will be on the theme of progress. \nHere’s a few selected readings you may be interested in: \n\nSeneca – Letter XVI and XXXII\nEpictetus Discourses – 1.4\, 2.9\, 3.2\, 3.12\nMeditations – 5.1\, 5.34
URL:https://brisbanestoics.com/event/brisbane-stoics-february-2025-meetup/
LOCATION:New Farm Library\, 135 Sydney Street\, New Farm\, Queensland\, 4005\, Australia
CATEGORIES:Brisbane Stoics
END:VEVENT
BEGIN:VEVENT
DTSTART;TZID=Australia/Brisbane:20250112T090000
DTEND;TZID=Australia/Brisbane:20250112T110000
DTSTAMP:20260424T011817
CREATED:20241208T034406Z
LAST-MODIFIED:20250110T202307Z
UID:379-1736672400-1736679600@brisbanestoics.com
SUMMARY:Brisbane Stoics January 2025 Meetup
DESCRIPTION:Hi all\, first meetup for the year\, continuing as usual. 9am Sunday the 12th of Jan. Newfarm meeting room.Our discussion will be around Marcus Aurelius’s ‘Meditation’.If you’ve read it great! Bring your observations and fav excerpts to share. Otherwise here is a few sections to read that we will have an opportunity to discuss as a group.Read: 2.16 2.17 3.11 3.16 4.33
URL:https://brisbanestoics.com/event/brisbane-stoics-january-2025-meetup/
LOCATION:New Farm Library\, 135 Sydney Street\, New Farm\, Queensland\, 4005\, Australia
CATEGORIES:Brisbane Stoics
END:VEVENT
END:VCALENDAR